BEGIN:VCALENDAR
VERSION:2.0
PRODID:icalendar-ruby
CALSCALE:GREGORIAN
METHOD:PUBLISH
BEGIN:VEVENT
DTSTAMP:20260421T150923Z
UID:5-393022@altoonarestorationcog.com
DTSTART:20261101T153000Z
DTEND:20261101T163000Z
CLASS:PUBLIC
CREATED:20260421T102423
DESCRIPTION:Sunday Worship
LAST-MODIFIED:20260421T102423
LOCATION:
SUMMARY:Sunday Worship
URL;VALUE=URI:https://altoonarestorationcog.com/events/sunday-worship/2026-
 11-01
END:VEVENT
END:VCALENDAR
