BEGIN:VCALENDAR
VERSION:2.0
PRODID:icalendar-ruby
CALSCALE:GREGORIAN
METHOD:PUBLISH
BEGIN:VEVENT
DTSTAMP:20260421T100807Z
UID:5-392497@altoonarestorationcog.com
DTSTART:20261011T143000Z
DTEND:20261011T153000Z
CLASS:PUBLIC
CREATED:20260420T204213
DESCRIPTION:Sunday Worship
LAST-MODIFIED:20260420T204213
LOCATION:
SUMMARY:Sunday Worship
URL;VALUE=URI:https://altoonarestorationcog.com/events/sunday-worship/2026-
 10-11
END:VEVENT
END:VCALENDAR
