BEGIN:VCALENDAR
VERSION:2.0
PRODID:icalendar-ruby
CALSCALE:GREGORIAN
METHOD:PUBLISH
BEGIN:VEVENT
DTSTAMP:20260421T043215Z
UID:5-392494@altoonarestorationcog.com
DTSTART:20260920T143000Z
DTEND:20260920T153000Z
CLASS:PUBLIC
CREATED:20260420T204213
DESCRIPTION:Sunday Worship
LAST-MODIFIED:20260420T204213
LOCATION:
SUMMARY:Sunday Worship
URL;VALUE=URI:https://altoonarestorationcog.com/events/sunday-worship/2026-
 09-20
END:VEVENT
END:VCALENDAR
