BEGIN:VCALENDAR
VERSION:2.0
PRODID:icalendar-ruby
CALSCALE:GREGORIAN
METHOD:PUBLISH
BEGIN:VEVENT
DTSTAMP:20260421T024128Z
UID:5-392493@altoonarestorationcog.com
DTSTART:20260913T143000Z
DTEND:20260913T153000Z
CLASS:PUBLIC
CREATED:20260420T204213
DESCRIPTION:Sunday Worship
LAST-MODIFIED:20260420T204213
LOCATION:
SUMMARY:Sunday Worship
URL;VALUE=URI:https://altoonarestorationcog.com/events/sunday-worship/2026-
 09-13
END:VEVENT
END:VCALENDAR
